BEGIN:VCALENDAR
VERSION:2.0
PRODID:-//A Little Peculiar Band - ECPv6.15.14//NONSGML v1.0//EN
CALSCALE:GREGORIAN
METHOD:PUBLISH
X-WR-CALNAME:A Little Peculiar Band
X-ORIGINAL-URL:https://alittlepeculiar.com
X-WR-CALDESC:Events for A Little Peculiar Band
REFRESH-INTERVAL;VALUE=DURATION:PT1H
X-Robots-Tag:noindex
X-PUBLISHED-TTL:PT1H
BEGIN:VTIMEZONE
TZID:America/Los_Angeles
BEGIN:DAYLIGHT
TZOFFSETFROM:-0800
TZOFFSETTO:-0700
TZNAME:PDT
DTSTART:20240310T100000
END:DAYLIGHT
BEGIN:STANDARD
TZOFFSETFROM:-0700
TZOFFSETTO:-0800
TZNAME:PST
DTSTART:20241103T090000
END:STANDARD
BEGIN:DAYLIGHT
TZOFFSETFROM:-0800
TZOFFSETTO:-0700
TZNAME:PDT
DTSTART:20250309T100000
END:DAYLIGHT
BEGIN:STANDARD
TZOFFSETFROM:-0700
TZOFFSETTO:-0800
TZNAME:PST
DTSTART:20251102T090000
END:STANDARD
BEGIN:DAYLIGHT
TZOFFSETFROM:-0800
TZOFFSETTO:-0700
TZNAME:PDT
DTSTART:20260308T100000
END:DAYLIGHT
BEGIN:STANDARD
TZOFFSETFROM:-0700
TZOFFSETTO:-0800
TZNAME:PST
DTSTART:20261101T090000
END:STANDARD
BEGIN:DAYLIGHT
TZOFFSETFROM:-0800
TZOFFSETTO:-0700
TZNAME:PDT
DTSTART:20270314T100000
END:DAYLIGHT
BEGIN:STANDARD
TZOFFSETFROM:-0700
TZOFFSETTO:-0800
TZNAME:PST
DTSTART:20271107T090000
END:STANDARD
END:VTIMEZONE
BEGIN:VEVENT
DTSTART;TZID=America/Los_Angeles:20251102T100000
DTEND;TZID=America/Los_Angeles:20251102T130000
DTSTAMP:20260419T152903
CREATED:20251018T184728Z
LAST-MODIFIED:20251018T184728Z
UID:100-1762077600-1762088400@alittlepeculiar.com
SUMMARY:Fresh52 Artisan Market - St. Rose & Paseo Verde
DESCRIPTION:
URL:https://alittlepeculiar.com/index.php/event/fresh52-artisan-market-st-rose-paseo-verde/
END:VEVENT
BEGIN:VEVENT
DTSTART;TZID=America/Los_Angeles:20251207T100000
DTEND;TZID=America/Los_Angeles:20251207T130000
DTSTAMP:20260419T152903
CREATED:20251106T014618Z
LAST-MODIFIED:20251106T014618Z
UID:107-1765101600-1765112400@alittlepeculiar.com
SUMMARY:Fresh52 Farmer's Market
DESCRIPTION:Come out and listen to the music of “A Little Peculiar” while shopping for fresh produce and craft goods.\nFresh52 Farmers’ & Artisan Market is a lively open air market in Southern Nevada where neighbors and friends come together to celebrate and empower their community.
URL:https://alittlepeculiar.com/index.php/event/fresh52-farmers-market/
LOCATION:Fresh52 Farmer’s Market\, 2580 St Rose Pkwy\, Las Vegas\, 89123\, United States
END:VEVENT
BEGIN:VEVENT
DTSTART;TZID=America/Los_Angeles:20260111T100000
DTEND;TZID=America/Los_Angeles:20260111T130000
DTSTAMP:20260419T152903
CREATED:20260113T193710Z
LAST-MODIFIED:20260113T193710Z
UID:126-1768125600-1768136400@alittlepeculiar.com
SUMMARY:Fresh52 Farmer's Market
DESCRIPTION:
URL:https://alittlepeculiar.com/index.php/event/fresh52-farmers-market-2/
LOCATION:Fresh52 Farmer’s Market\, 2580 St Rose Pkwy\, Las Vegas\, 89123\, United States
END:VEVENT
BEGIN:VEVENT
DTSTART;TZID=America/Los_Angeles:20260201T100000
DTEND;TZID=America/Los_Angeles:20260201T130000
DTSTAMP:20260419T152903
CREATED:20260113T193819Z
LAST-MODIFIED:20260113T193819Z
UID:128-1769940000-1769950800@alittlepeculiar.com
SUMMARY:Fresh52 Farmer's Market
DESCRIPTION:
URL:https://alittlepeculiar.com/index.php/event/fresh52-farmers-market-3/
LOCATION:Fresh52 Farmer’s Market\, 2580 St Rose Pkwy\, Las Vegas\, 89123\, United States
END:VEVENT
BEGIN:VEVENT
DTSTART;TZID=America/Los_Angeles:20260301T100000
DTEND;TZID=America/Los_Angeles:20260301T130000
DTSTAMP:20260419T152903
CREATED:20260113T193938Z
LAST-MODIFIED:20260113T193938Z
UID:130-1772359200-1772370000@alittlepeculiar.com
SUMMARY:Fresh52 Farmer's Market
DESCRIPTION:
URL:https://alittlepeculiar.com/index.php/event/fresh52-farmers-market-4/
LOCATION:Fresh52 Farmer’s Market\, 2580 St Rose Pkwy\, Las Vegas\, 89123\, United States
END:VEVENT
BEGIN:VEVENT
DTSTART;TZID=America/Los_Angeles:20260405T100000
DTEND;TZID=America/Los_Angeles:20260405T130000
DTSTAMP:20260419T152903
CREATED:20260113T194017Z
LAST-MODIFIED:20260113T194017Z
UID:132-1775383200-1775394000@alittlepeculiar.com
SUMMARY:Fresh52 Farmer's Market
DESCRIPTION:
URL:https://alittlepeculiar.com/index.php/event/fresh52-farmers-market-5/
LOCATION:Fresh52 Farmer’s Market\, 2580 St Rose Pkwy\, Las Vegas\, 89123\, United States
END:VEVENT
END:VCALENDAR