BEGIN:VCALENDAR
VERSION:2.0
PRODID:-//A Little Peculiar Band - ECPv6.15.14//NONSGML v1.0//EN
CALSCALE:GREGORIAN
METHOD:PUBLISH
X-WR-CALNAME:A Little Peculiar Band
X-ORIGINAL-URL:https://alittlepeculiar.com
X-WR-CALDESC:Events for A Little Peculiar Band
REFRESH-INTERVAL;VALUE=DURATION:PT1H
X-Robots-Tag:noindex
X-PUBLISHED-TTL:PT1H
BEGIN:VTIMEZONE
TZID:America/Los_Angeles
BEGIN:DAYLIGHT
TZOFFSETFROM:-0800
TZOFFSETTO:-0700
TZNAME:PDT
DTSTART:20240310T100000
END:DAYLIGHT
BEGIN:STANDARD
TZOFFSETFROM:-0700
TZOFFSETTO:-0800
TZNAME:PST
DTSTART:20241103T090000
END:STANDARD
BEGIN:DAYLIGHT
TZOFFSETFROM:-0800
TZOFFSETTO:-0700
TZNAME:PDT
DTSTART:20250309T100000
END:DAYLIGHT
BEGIN:STANDARD
TZOFFSETFROM:-0700
TZOFFSETTO:-0800
TZNAME:PST
DTSTART:20251102T090000
END:STANDARD
BEGIN:DAYLIGHT
TZOFFSETFROM:-0800
TZOFFSETTO:-0700
TZNAME:PDT
DTSTART:20260308T100000
END:DAYLIGHT
BEGIN:STANDARD
TZOFFSETFROM:-0700
TZOFFSETTO:-0800
TZNAME:PST
DTSTART:20261101T090000
END:STANDARD
END:VTIMEZONE
BEGIN:VEVENT
DTSTART;TZID=America/Los_Angeles:20251102T100000
DTEND;TZID=America/Los_Angeles:20251102T130000
DTSTAMP:20260419T151821
CREATED:20251018T184728Z
LAST-MODIFIED:20251018T184728Z
UID:100-1762077600-1762088400@alittlepeculiar.com
SUMMARY:Fresh52 Artisan Market - St. Rose & Paseo Verde
DESCRIPTION:
URL:https://alittlepeculiar.com/index.php/event/fresh52-artisan-market-st-rose-paseo-verde/
END:VEVENT
BEGIN:VEVENT
DTSTART;TZID=America/Los_Angeles:20250709T190000
DTEND;TZID=America/Los_Angeles:20250709T210000
DTSTAMP:20260419T151821
CREATED:20250719T010114Z
LAST-MODIFIED:20250719T010114Z
UID:58-1752087600-1752094800@alittlepeculiar.com
SUMMARY:The Backyard
DESCRIPTION:
URL:https://alittlepeculiar.com/index.php/event/the-backyard/
LOCATION:The Backyard\, Austin\, TX\, United States
END:VEVENT
BEGIN:VEVENT
DTSTART;TZID=America/Los_Angeles:20250704T200000
DTEND;TZID=America/Los_Angeles:20250704T220000
DTSTAMP:20260419T151821
CREATED:20250719T005816Z
LAST-MODIFIED:20250719T005816Z
UID:56-1751659200-1751666400@alittlepeculiar.com
SUMMARY:Fourth of July Bash
DESCRIPTION:
URL:https://alittlepeculiar.com/index.php/event/fourth-of-july-bash/
LOCATION:Moody Center\, Austin\, TX\, United States
END:VEVENT
BEGIN:VEVENT
DTSTART;TZID=America/Los_Angeles:20250505T190000
DTEND;TZID=America/Los_Angeles:20250505T210000
DTSTAMP:20260419T151821
CREATED:20250719T010342Z
LAST-MODIFIED:20250719T010342Z
UID:61-1746471600-1746478800@alittlepeculiar.com
SUMMARY:Chuy's Cinco de Mayo Party
DESCRIPTION:
URL:https://alittlepeculiar.com/index.php/event/chuys-cinco-de-mayo-party/
LOCATION:Chuy’s Mexican Restaurant
END:VEVENT
END:VCALENDAR